Workbook

Sheet Menu
C3: APLIKASI PENILAIAN KINERJA KEPALA SEKOLAH BERBASIS KOMPETENSI Sesuai Perdirjen GTK No 6565/B/GT/2020
C8: INPUT DATA PKKS | I8: CETAK PKKS
D10: Input Identitas | J10: Cetak Instrumen
D12: Input Skor Kompetensi 1 | J12: Cetak Form Kuesioner Guru/Sejawat
D14: Input Skor Kompetensi 2 | J14: Cetak Form Kuesioner Siswa
D16: Input Skor Kompetensi 3 | J16: Cetak Form Kuesioner Orang Tua
D18: Input Skor Kompetensi 4 | J18: Cetak Form Kuesioner Dudi
D20: Input Penilaian Guru/Sejawat | J20: Cetak Rekapitulasi
D22: Input Penilaian Siswa | J22: Cetak Penilaian 3600
D24: Input Penilaian Orang Tua Siswa | J24: Cetak Laporan Evaluasi
D26: Input Penilaian Dudi | J26: Cetak Konversi Angka Kredit
L28: MKPS SMA-SLB-SMK JATENG©

Sheet Identitas
B1: DATA PENILAIAN PENGEMBANGAN KOMPETENSI
B2: PROFESIONAL KEPALA SEKOLAH DAN PENILAI
B4: a. | C4: Nama KS yang dinilai | D4: : | E4: Drs. ............
C5: N I P | D5: : | E5: 19..........................
C6: NUPTK / NRG | D6: :
C7: Tempat / Tgl Lahir | D7: : | E7: Cilacap, 02 Maret 1965
C8: Pangkat / Gol. / TMT | D8: : | E8: Pembina Tk I | F8: IV b | G8: 29 Januari 2014
C9: Jabatan | D9: : | E9: Kepala Sekolah
C10: Masa Kerja | D10: : | E10: 33 th, 10 bln
C11: Jenis Kelamin | D11: : | E11: Laki-laki
C12: Pend. Terakhir | D12: : | E12: S 2
C13: Spesialisasi | D13: : | E13: Guru Mapel Teknik Bangunan
C14: TMT KS | D14: : | E14: 1 Januari 2014
C15: Penilaian Tahun | D15: : | E15: 2023
B17: b. | C17: Nama Instansi/Sklh. | D17: : | E17: SMK Negeri 1 ..............
C18: Telepon / Fax | D18: : | E18: -
C19: Kelurahan | D19: : | E19: B................
C20: Kecamatan | D20: : | E20: .....................
C21: Kota | D21: : | E21: Banyumas
C22: Provinsi | D22: : | E22: Jawa Tengah
B24: c. | C24: Penilai | D24: : | E24: Hariyanto, S.TP., MP.
C25: NIP | D25: : | E25: 19711012 199802 1 002
C26: SK Penugasan | D26: : | E26: 20 Agustus 2021
C27: Nomor | D27: : | E27: 821.3/ 464/ 2021
C28: Tanggal | D28: : | E28: 01 Januari 2023
C29: Berlaku sampai dgn | D29: : | E29: 31 Desember 2023
B31: d. | C31: Jenjang Pendidikan | D31: : | E31: Klik options button (○)
C32: PAUD/RA/SLB | D32: SD/MI | F32: SMP/MTs | G32: SMA/MA | H32: SMK
C33: 5
B35: e. | C35: Unit Organisasi | D35: : | E35: Klik options button (○)
C36: Pemkab/kot | E36: Kemenag Kab/Kot | G36: Pemprov
C37: 3
B39: f. | C39: Periode dan Jenis Penilaian
C40: Periode Penilaian | F40: Formatif | H40: Waktu
C41: 01 Januari 2023 | D41: s.d | E41: 31 Desember 2023 | F41: Sumatif | G41: 2 | H41: 10 Desember 2023
C42: (tanggal, bulan, tahun) | E42: (tanggal, bulan, tahun) | F42: Kemajuan

Sheet Kompetensi 1
B3: 1. PENGEMBANGAN DIRI DAN ORANG LAIN
B4: Kompetensi:
B5: 1.1 Menunjukkan praktik pengembangan diri berdasarkan kesadaran dan kemauan pribadi.
B6: KLIK SKOR | H6: INDIKATOR | J6: TINGKAT KOMPETENSI | R6: BUKTI FISIK / INDIKATOR YANG TERIDENTIFIKASI | T6: PENDALAMAN WAWANCARA/ TRACER VALIDASI BUKTI FISIK
B7: 0 | C7: 1 | D7: 2 | E7: 3 | F7: 4
G8: 1. Mengenali potensi diri dalam kepemimpinan pendidikan. | J8: =IF(L8<1.49,"Berkembang",IF(L8<2.49,"Layak",IF(L8<3.49,"Cakap",IF(L8<4.49,"Mahir","")))) -> Cakap | L8: =SUM(M8:M11)/N8*4 -> 2.5 | M8: =S8-1 -> 1 | N8: =COUNTA(G8:G11)*4 -> 16 | Q8: 1. | R8: Program Kerja Sekolah (RKJM, RKT, RKAS) | S8: 2 | T8: Undangan Penyusunan RKJM, RKT, RKAS, Daftar Hadir, Notulen, RKJM, RKT, RKAS)
G9: 2. Mengambil inisiatif, menetapkan tujuan, dan merencanakan pengembangan diri sesuai dengan kebutuhan kepemimpinan pendidikan yang dihadapi. | M9: =S9-1 -> 1 | Q9: 2. | R9: Program Pengembangan Keprofesian Berkelanjutan / Pengembangan Diri Kepala Sekolah (PD, PIKI, Keg Penunjang) | S9: 2 | T9: Program PKB/PD dalam RKJM, RKT, RKAS; Laporan Kegiatam PD &Sertifikat PD, Karya PIKI; Keaktifan pengurus/ keanggotaan organisasi profesi/ penunjnag.
G10: 3. Melakukan pengembangan diri sesuai dengan yang direncanakan. | M10: =S10-1 -> 4 | Q10: 3. | R10: Jurnal / Catatan Daftar Kegiatan Pengembangan Diri yang diikuti/PIKI | S10: 5 | T10: Laporan Kegiatan PD, sertifikat PD, Jurnal PD yang diikuti; Hasil PIKI
G11: 4. Melakukan refleksi terhadap hasil pengembangan diri untuk perbaikan. | M11: =S11-1 -> 4 | Q11: 4. | R11: Evaluasi Kegiatan Program Kerja Sekolah dalam bentuk Rapat koordinasi dengan Tim Work Sekolah. (Dafhad dan Notulen Rapat) | S11: 5 | T11: Undangan Rapat Refleksi PD, Daftar Hadir, Notulen, Catatan Rekomendasi Hasil Evaluasi
B12: =J6&"" -> TINGKAT KOMPETENSI
B13: Berkembang | G13: Layak | H13: Cakap | I13: Mahir | J13: SKOR
B14: =IF(J8="Berkembang","v","") | G14: =IF(J8="Layak","v","") | H14: =IF(J8="Cakap","v","") -> v | I14: =IF(J8="Mahir","v","") | J14: =IF(J8="Berkembang",1,IF(J8="Layak",2,IF(J8="Cakap",3,IF(J8="Mahir",4,"")))) -> 3 | L14: A.1 | M14: =IF(COUNTA(B14)=1,1,0) -> 1 | N14: =IF(COUNTA(G14)=1,2,0) -> 2 | O14: =IF(COUNTA(H14)=1,3,0) -> 3 | P14: =IF(COUNTA(I14)=1,4,0) -> 4
B15: Melakukan refleksi terhadap potensi diri dan hasil pengembangan diri sesuai dengan kebutuhan kepemimpinan pendidikan yang dihadapi. | G15: Membiasakan diri melakukan refleksi terhadap potensi diri dan hasil pengembangan diri sesuai dengan kebutuhan kepemimpinan pendidikan yang dihadapi sehingga dapat menentukan tujuan pengembangan diri yang spesifik. | H15: Menjadi terbiasa melakukan refleksi secara terstruktur dalam praktik kepemimpinan sehingga memiliki mekanisme dalam pengembangan diri secara mandiri. | I15: Menginisiasi kolaborasi dalam melakukan refleksi dengan melibatkan warga sekolah, termasuk memantau dampak efektivitasnya pada perkembangan sekolah, sebagai dasar untuk melakukan pengembangan praktik kepemimpinan pembelajaran dan pendidikan.
B17: Kompetensi:
B18: 1.2 Mengembangkan kompetensi warga sekolah untuk meningkatkan kualitas pembelajaran.
B19: KLIK SKOR | H19: INDIKATOR | J19: TINGKAT KOMPETENSI | R19: BUKTI FISIK / INDIKATOR YANG TERIDENTIFIKASI | T19: PENDALAMAN WAWANCARA/ TRACER VALIDASI BUKTI FISIK
B20: 0 | C20: 1 | D20: 2 | E20: 3 | F20: 4
G21: 1. Memetakan kebutuhan belajar warga sekolah untuk meningkatkan kualitas pembelajaran. | J21: =IF(L21<1.49,"Berkembang",IF(L21<2.49,"Layak",IF(L21<3.49,"Cakap",IF(L21<4.49,"Mahir","")))) -> Mahir | L21: =SUM(M21:M25)/N21*4 -> 3.8 | M21: =S21-1 -> 4 | N21: =COUNTA(G21:G25)*4 -> 20 | Q21: 1. | R21: Analisis kebutuhan kompetensi guru, pelatihan bagi guru kerja sekolah, tertuang dalam program rencana kerja sekolah. | S21: 5 | T21: Analisis R 10 Kebutuhan Tendik; Recruitment, SK Pembagian Tugas Tendik, Program Pelatihan/ Workshop Tendik dalam RKT/ RKAS, Pelaksanaan Pelatihan, Evaluasi & Tindaklanjut Pelatihan Tendik.
G22: 2. Melakukan pendampingan kepada guru untuk melakukan pengembangan diri. | M22: =S22-1 -> 4 | Q22: 2. | R22: Program Pelatihan Guru di lingkungan sekolah. | S22: 5 | T22: Program IHT dalam RKT/RKAS, Pelaksanaan (laporan IHT, Dokumentasi), Evaluasi dan Tindaklanjut IHT
G23: 3. Melakukan pendampingan kepada guru untuk meningkatkan kualitas pembelajaran. | M23: =S23-1 -> 4 | Q23: 3. | R23: Supervisi Akademik Guru (Program dan Pelaksanaan) | S23: 5 | T23: Program supervisi (Program, Jadwal Supervisi, SK TIM Supervisi, Instrumen Supervisi; Pra observasi, Pelaksanaan Observasi, Pasca Observasi) Pelaksanaan Supervisi (laporan), Evalausi dan Tindaklanjut.
G24: 4. Mendorong warga sekolah menguasai kompetensi yang dibutuhkan. | M24: =S24-1 -> 3 | Q24: 4. | R24: Tindak lanjut kegiatan supervisi guru (Evaluasi dan Tindak Lanjut) | S24: 4 | T24: Evaluasi dan Tindaklanjut Supervisi (Hasil evalasi Supervisi, Catatan supervisi; saran, pembeian contoh, kunjungan kelas, pelatihan)
G25: 5. Memberikan kesempatan kepada warga sekolah untuk melakukan pengembangan kompetensi di luar sekolah. | M25: =S25-1 -> 4 | Q25: 5. | R25: Program Pelatihan Guru di luar sekolah dan atau magang. | S25: 5 | T25: Kegiatan MGMP, Workshop yang diselnggerakan instansi lain, Magang Guru, Uji Kompetensi Guru
B26: =J19&"" -> TINGKAT KOMPETENSI
B27: Berkembang | G27: Layak | H27: Cakap | I27: Mahir | J27: SKOR
B28: =IF(J21="Berkembang","v","") | G28: =IF(J21="Layak","v","") | H28: =IF(J21="Cakap","v","") | I28: =IF(J21="Mahir","v","") -> v | J28: =IF(J21="Berkembang",1,IF(J21="Layak",2,IF(J21="Cakap",3,IF(J21="Mahir",4,"")))) -> 4 | L28: A.2 | M28: =IF(COUNTA(B28)=1,1,0) -> 1 | N28: =IF(COUNTA(G28)=1,2,0) -> 2 | O28: =IF(COUNTA(H28)=1,3,0) -> 3 | P28: =IF(COUNTA(I28)=1,4,0) -> 4
B29: Memetakan kebutuhan belajar warga sekolah dalam melakukan pengembangan diri untuk meningkatkan kualitas pembelajaran. | G29: Menentukan strategi dan melakukan pendampingan kepada guru dalam pelaksanaan pengembangan diri dan peningkatan kualitas pembelajaran. | H29: Menentukan strategi dan melakukan pendampingan kepada guru dalam pelaksanaan pengembangan diri dan peningkatan kualitas pembelajaran serta memberikan kesempatan kepada warga sekolah dalam peningkatan kompetensi di luar sekolah. | I29: Mengembangkan mekanisme dalam pemetaan kebutuhan belajar warga sekolah, penentuan strategi, dan pendampingan kepada guru dalam pelaksanaan pengembangan diri dan peningkatan kualitas pembelajaran serta dalam memberikan kesempatan kepada warga sekolah dalam peningkatan kompetensi di luar sekolah.
B31: Kompetensi:
B32: 1.3 Berpartisipasi aktif dalam jejaring dan organisasi yang relevan dengan kepemimpinan sekolah untuk mengembangkan karier.
B33: KLIK SKOR | H33: INDIKATOR | J33: TINGKAT KOMPETENSI | R33: BUKTI FISIK / INDIKATOR YANG TERIDENTIFIKASI | T33: PENDALAMAN WAWANCARA/ TRACER VALIDASI BUKTI FISIK
B34: 0 | C34: 1 | D34: 2 | E34: 3 | F34: 4
G35: 1. Ikut serta dalam kegiatan jejaring dan organisasi yang relevan dengan kepemimpinan sekolah. | J35: =IF(L35<1.49,"Berkembang",IF(L35<2.49,"Layak",IF(L35<3.49,"Cakap",IF(L35<4.49,"Mahir","")))) -> Mahir | L35: =SUM(M35:M39)/N35*4 -> 3.6 | M35: =S35-1 -> 3 | N35: =COUNTA(G35:G39)*4 -> 20 | Q35: 1. | R35: Aktif pada Organisasi MKKS dan atau PGRI | S35: 4 | T35: Pengurus/ Anggota Aktif MKKS, PGRI, KORPRI, Kepramukaan atau Organisasi Profesi Lain yang sesuai/relevan dengan Karier (Kartu Anggota, SK Pengurus)
G36: 2. Berbagi praktik baik kepemimpinan sekolah dalam kegiatan jejaring dan organisasi yang relevan. | M36: =S36-1 -> 3 | Q36: 2. | R36: Berbagi pengalaman dengan sekolah lain dalam bentuk Lokakarya dan atau kegiatan sejenis. | S36: 4 | T36: Menjadi Narasumber Berbagai Praktik Baik dengan Sekolah Lain, Narasumber Pengimbasan kepada sekolah sekitar/ sekolah sasaran, Narasumber seminar/ Lokakarya.
G37: 3. Mengadopsi dan mengadaptasi praktik baik kepemimpinan dari kegiatan jejaring dan organisasi yang relevan. | M37: =S37-1 -> 4 | Q37: 3. | R37: Aktif mengikuti Lokakarya dan atau kegiatan sejenis dalam rangka peningkatan kompetensi diri. | S37: 5 | T37: Mengikuti Kegiatan Lokakarya/ Seminar (Laporan dan sertifikat Seminar/ Lokakarya)
G38: 4. Mendampingi pimpinan sekolah lain dalam pengembangan karier melalui jejaring dan organisasi yang relevan dengan kepemimpinan sekolah. | M38: =S38-1 -> 4 | Q38: 4. | R38: Berbagi pengalaman dengan sekolah lain dalam bentuk Lokakarya dan atau kegiatan sejenis. | S38: 5 | T38: Menjadi Narasumber Berbagai Praktik Baik dengan Sekolah Lain, Narasumber Pengimbasan kepada sekolah sekitar/ sekolah sasaran, Narasumber seminar/ Lokakarya, Komunitas Belajar, MOU dengan Organisasi Kemasyarakatan, MOU dengan Pemerintah, MOU dengan Industri
G39: 5. Berinisiatif mengembangkan dan memberdayakan jejaring dan organisasi kepemimpinan sekolah. | M39: =S39-1 -> 4 | Q39: 5. | R39: Menginisiasi dan aktif dalam menyusun Program MKKS. | S39: 5 | T39: Aktif dalam MKKS, Organisasi profesi yang relevan, Kerjsama dengan Organisasi Kemasyarakatan, MOU dengan Instansi Pemerintah, MOU dengan Industri.
B40: =J33&"" -> TINGKAT KOMPETENSI
B41: Berkembang | G41: Layak | H41: Cakap | I41: Mahir | J41: SKOR
B42: =IF(J35="Berkembang","v","") | G42: =IF(J35="Layak","v","") | H42: =IF(J35="Cakap","v","") | I42: =IF(J35="Mahir","v","") -> v | J42: =IF(J35="Berkembang",1,IF(J35="Layak",2,IF(J35="Cakap",3,IF(J35="Mahir",4,"")))) -> 4 | L42: A.3 | M42: =IF(COUNTA(B42)=1,1,0) -> 1 | N42: =IF(COUNTA(G42)=1,2,0) -> 2 | O42: =IF(COUNTA(H42)=1,3,0) -> 3 | P42: =IF(COUNTA(I42)=1,4,0) -> 4
B43: Berpartisipasi dalam kegiatan jejaring dan organisasi kepemimpinan sekolah dengan mengambil praktik baik dari kepemimpinan sekolah lain untuk melakukan refleksi dalam rangka pengembangan diri. | G43: Berbagi praktik baik dalam kepemimpinan sekolah secara berkala dan konsisten melalui kegiatan jejaring dan organisasi yang relevan, serta mengadopsi dan mengadaptasi praktik baik dalam kepemimpinan sekolah lain yang relevan. | H43: Berbagi praktik baik dalam kepemimpinan sekolah secara berkala dan konsisten, mengadopsi dan mengadaptasi praktik baik dalam kepemimpinan sekolah lain yang relevan, serta mendampingi pimpinan sekolah lain dalam pengembangan karier melalui jejaring dan organisasi yang relevan dengan kepemimpinan sekolah. | I43: Menginisiasi pengembangan dan pemberdayaan jejaring dan organisasi kepemimpinan sekolah untuk memfasilitasi kegiatan berbagi praktik baik dalam kepemimpinan sekolah secara berkala dan konsisten, kegiatan mengadopsi dan mengadaptasi praktik baik dalam kepemimpinan sekolah lain yang relevan, serta kegiatan mendampingi pimpinan sekolah lain dalam pengembangan karier.
B45: Kompetensi:
...

Sheet Kompetensi 2
B3: 2. KEPEMIMPINAN PEMBELAJARAN
B4: Kompetensi:
B5: 2.1 Memimpin upaya pengembangan lingkungan belajar yang berpusat pada murid.
B6: KLIK SKOR | H6: INDIKATOR | J6: TINGKAT KOMPETENSI | R6: BUKTI FISIK / INDIKATOR YANG TERIDENTIFIKASI | T6: PENDALAMAN WAWANCARA/ TRACER VALIDASI BUKTI FISIK
B7: 0 | C7: 1 | D7: 2 | E7: 3 | F7: 4
G8: 1. Mengembangkan dan merawat lingkungan sekolah yang nyaman dan aman bagi warga sekolah. | J8: =IF(L8<1.5,"Berkembang",IF(L8<2.5,"Layak",IF(L8<3.5,"Cakap",IF(L8<=4,"Mahir","")))) -> Mahir | L8: =SUM(M8:M11)/N8*4 -> 3.5 | M8: =S8-1 -> 4 | N8: =COUNTA(G8:G11)*4 -> 16 | Q8: 1. | R8: Lingkungan sekolah yang bersih, tertata rapih, aman dan nyaman. (Program Adiwiyata, Sekolah Sehat, Sekolah Ramah Anak, dll) | S8: 5 | T8: Program dalam RKT/ RKAS, Kondisi Lingkungan sekolah bersih, hijau, Bebas Buliying, Potensi Bencana alam, Pengelolaan Akhir Sampah, Drainase; Rasio Siswa dan Rombel, Rasio Kamar Mandi, rasio Sarpras.
G9: 2. Mengembangkan komunikasi dan interaksi warga sekolah yang saling percaya dan peduli. | M9: =S9-1 -> 4 | Q9: 2. | R9: Rapat Koordinasi Guru dan Tendik serta Komite sekolah secara periodik. | S9: 5 | T9: (Undangan, Dfatr Hadir, Notulen Rapat) Apel Pagi/ Pembinaan, KKG dan Komunitas belajar)
G10: 3. Memfasilitasi masukan dan aspirasi murid dalam penyusunan kebijakan pegembangan lingkungan belajar dan pelaksanaan praktik belajar. | M10: =S10-1 -> 3 | Q10: 3. | R10: Rapat Koordinasi Guru dan Tendik serta Komite sekolah secara periodik. | S10: 4 | T10: (Undangan, daftar hadir, Notulen rapat), Pelibatas siswa dalam penyusunan Perangkat ajar dan Asesemen Murid), Hasil Assesmen diagnostik.
G11: 4. Memastikan guru melibatkan murid dalam membangun lingkungan belajar yang kondusif. | M11: =S11-1 -> 3 | Q11: 4. | R11: Pengawasan dan Evaluasi kegiatan guru dan tendik secara periodik | S11: 4 | T11: Hasil Pemantauan, Supervisi dan Evaluasi KBM (Intra, Kokurikuler dan Eskul)
B12: =J6&"" -> TINGKAT KOMPETENSI
B13: Berkembang | G13: Layak | H13: Cakap | I13: Mahir | J13: SKOR
B14: =IF(J8="Berkembang","v","") | G14: =IF(J8="Layak","v","") | H14: =IF(J8="Cakap","v","") | I14: =IF(J8="Mahir","v","") -> v | J14: =IF(J8="Berkembang",1,IF(J8="Layak",2,IF(J8="Cakap",3,IF(J8="Mahir",4,"")))) -> 4 | L14: B.1 | M14: =IF(COUNTA(B14)=1,1,0) -> 1 | N14: =IF(COUNTA(G14)=1,2,0) -> 2 | O14: =IF(COUNTA(H14)=1,3,0) -> 3 | P14: =IF(COUNTA(I14)=1,4,0) -> 4
B15: Mengajak guru untuk mengembangkan kelas sebagai sistem sosial yang mewujudkan merdeka belajar. | G15: Melibatkan seluruh warga sekolah untuk berpartisipasi dalam mewujudkan lingkungan belajar yang aman dan nyaman bagi aktivitas murid dan guru sehingga senantiasa terwujud merdeka belajar. | H15: Memastikan dan membangun komunikasi serta interaksi persuasif seluruh warga sekolah dalam berpartisipasi mewujudkan lingkungan sekolah yang kondusif, aman, dan nyaman bagi aktivitas murid dan guru sehingga senantiasa terwujud merdeka belajar. | I15: Mengembangkan sistem yang memastikan masukan dan aspirasi murid sebagai pertimbangan dalam penyusunan kebijakan dan praktik belajar pada level kelas dan sekolah dengan dukungan dari warga sekolah yang lain untuk mewujudkan lingkungan belajar yang kondusif, aman, dan nyaman bagi aktivitas murid dan guru sehingga senantiasa terwujud merdeka belajar.
B17: Kompetensi:
B18: 2.2 Memimpin perencanaan dan pelaksanaan proses belajar yang berpusat pada murid.
B19: KLIK SKOR | H19: INDIKATOR | J19: TINGKAT KOMPETENSI | R19: BUKTI FISIK / INDIKATOR YANG TERIDENTIFIKASI | T19: PENDALAMAN WAWANCARA/ TRACER VALIDASI BUKTI FISIK
B20: 0 | C20: 1 | D20: 2 | E20: 3 | F20: 4
G21: 1. Memimpin pertemuan guru untuk merencanakan proses belajar yang berpusat pada murid. | J21: =IF(L21<1.5,"Berkembang",IF(L21<2.5,"Layak",IF(L21<3.5,"Cakap",IF(L21<=4,"Mahir","")))) -> Mahir | L21: =SUM(M21:M24)/N21*4 -> 3.5 | M21: =S21-1 -> 3 | N21: =COUNTA(G21:G24)*4 -> 16 | Q21: 1. | R21: Daftar hadir dan notulen Rapat secara periodik dengan guru dan tendik. | S21: 4 | T21: Refleksi Pembelajaran (Undangan, Daftar hadir,Notulen, Catatan Rekomnedasi Refleksi), Buku Kurikulum, ATP, MA, Jurnal mengajar, Bukti Asesmen.
G22: 2. Memberi umpan balik terhadap perencanaan dan pelaksanaan proses belajar sebagai dasar bagi guru melakukan perbaikan. | M22: =S22-1 -> 3 | Q22: 2. | R22: Adanya reward dan atau punishment (teguran) bagi guru yang berprilaku baik dan negatif | S22: 4 | T22: Pemantauan, Supervisi dan Evaluasi Pembelajaran (Program, Pelaksanaan, Evaluasi dan tindaklanjut), Piagam/ Bukti Penghargaan Tendik Berprestasi, Bukti Sanksi TendikTendik
G23: 3. Menunjukkan praktik pembelajaran yang berpusat pada murid sebagai teladan bagi guru. | M23: =S23-1 -> 4 | Q23: 3. | R23: Supervisi Akademik Guru melalui model pelaksanaan pembelajaran (program, pelaksanaan, evaluasi, tindak lanjut) | S23: 5 | T23: Tindaklanjut Pelaksanaan Supervisi (Saran, Pemberian contoh, Observasi kelas dan Pelatihan)
G24: 4. Menyediakan dukungan agar guru fokus dalam melaksanakan proses belajar yang berpusat pada murid. | M24: =S24-1 -> 4 | Q24: 4. | R24: Memfasilitasi sekolah dengan melengkapi sarana dan prasarana sesuai kemampuan sekolah (acuan Permen tentang Standar Sarpras) | S24: 5 | T24: Perencanaan Kebutuhan Sarpras (RKT/ RKAS), Pelaksanaan Penggunaan (Peruntukan, Pencatatan Aseset, KIB), Pengawasan Sarpras( Buku Pemeliharaan dan Perawatan, Buku Bon Pinjam Alat)
B25: =J19&"" -> TINGKAT KOMPETENSI
B26: Berkembang | G26: Layak | H26: Cakap | I26: Mahir | J26: SKOR
B27: =IF(J21="Berkembang","v","") | G27: =IF(J21="Layak","v","") | H27: =IF(J21="Cakap","v","") | I27: =IF(J21="Mahir","v","") -> v | J27: =IF(J21="Berkembang",1,IF(J21="Layak",2,IF(J21="Cakap",3,IF(J21="Mahir",4,"")))) -> 4 | L27: B.2 | M27: =IF(COUNTA(B27)=1,1,0) -> 1 | N27: =IF(COUNTA(G27)=1,2,0) -> 2 | O27: =IF(COUNTA(H27)=1,3,0) -> 3 | P27: =IF(COUNTA(I27)=1,4,0) -> 4
B28: Mengadakan pertemuan untuk melakukan perbaikan perencanaan dan peningkatan praktik pembelajaran untuk menumbuhkan kegemaran belajar setiap murid. | G28: Mengadakan dan memandu pertemuan untuk membantu guru dalam melakukan refleksi untuk memperbaiki aktivitas belajar yang berpusat pada murid dan bermakna bagi setiap murid. | H28: Menumbuhkan kebiasaan berdiskusi aktif untuk membantu guru dalam melakukan refleksi untuk memperbaiki aktivitas belajar yang berpusat pada murid dan bermakna bagi setiap murid berdasarkan praktik baik pembelajaran dan data dari asesmen proses dan hasil belajar. | I28: Mengembangkan mekanisme yang digunakan untuk membantu guru mendapatkan dukungan dari guru lain atau manajemen sekolah dalam meningkatkan kualitas pembelajaran yang berpusat pada murid berdasarkan praktik baik pembelajaran dan data dari asesmen proses dan hasil belajar.
B31: Kompetensi:
B32: 2.3 Memimpin refleksi dan perbaikan kualitas proses belajar yang berpusat pada murid.
B33: KLIK SKOR | H33: INDIKATOR | J33: TINGKAT KOMPETENSI | R33: BUKTI FISIK / INDIKATOR YANG TERIDENTIFIKASI | T33: PENDALAMAN WAWANCARA/ TRACER VALIDASI BUKTI FISIK
B34: 0 | C34: 1 | D34: 2 | E34: 3 | F34: 4
G35: 1. Mengoordinasi pengumpulan dan pengolahan data terkait proses dan hasil belajar murid. | J35: =IF(L35<1.5,"Berkembang",IF(L35<2.5,"Layak",IF(L35<3.5,"Cakap",IF(L35<=4,"Mahir","")))) -> Mahir | L35: =SUM(M35:M38)/N35*4 -> 3.5 | M35: =S35-1 -> 3 | N35: =COUNTA(G35:G38)*4 -> 16 | Q35: 1. | R35: Adanya Admin / operator sekolah khusus bidang akademik | S35: 4 | T35: Input data Dapodik, Pencatatan Buku Induk, Daftar Hadir, Penilaian Formatif, Penilaian Sumatif, Buku Nilai siswa
G36: 2. Mengoordinasi evaluasi praktik pembelajaran berdasarkan data terkait proses dan hasil belajar murid. | M36: =S36-1 -> 3 | Q36: 2. | R36: Adanya Admin / operator sekolah khusus bidang akademik | S36: 4 | T36: Penilaian Praktik/ Keterampilan, Hasil Penilaian Praktik, Penilaian Formatif dan Sumatif, Penilaian semester, Leger Nilai
G37: 3. Memimpin pertemuan refleksi secara berkala untuk perbaikan kualitas proses belajar. | M37: =S37-1 -> 4 | Q37: 3. | R37: Rapat koordinasi secara periodik khusus terkait hasil belajar siswa. | S37: 5 | T37: (Undangan, Daftar Hadir, Notulen), Refleksi Pembelajaran oleh Guru, Program Perbaikan dan Pengayaan, Perbaikan Modul Ajar
G38: 4. Membimbing guru untuk melakukan perbaikan kualitas proses belajar berdasarkan hasil dari refleksi. | M38: =S38-1 -> 4 | Q38: 4. | R38: Tindak lanjut hasil supervisi dan berbagi pengalaman dengan guru. | S38: 5 | T38: Tindaklanjut Hasil Supervisi (Saran, pemberian contoh, observasi kelas dan pelatihan/ bentuk lainnya)
B39: =J33&"" -> TINGKAT KOMPETENSI
B40: Berkembang | G40: Layak | H40: Cakap | I40: Mahir | J40: SKOR
B41: =IF(J35="Berkembang","v","") | G41: =IF(J35="Layak","v","") | H41: =IF(J35="Cakap","v","") | I41: =IF(J35="Mahir","v","") -> v | J41: =IF(J35="Berkembang",1,IF(J35="Layak",2,IF(J35="Cakap",3,IF(J35="Mahir",4,"")))) -> 4 | L41: B.3 | M41: =IF(COUNTA(B41)=1,1,0) -> 1 | N41: =IF(COUNTA(G41)=1,2,0) -> 2 | O41: =IF(COUNTA(H41)=1,3,0) -> 3 | P41: =IF(COUNTA(I41)=1,4,0) -> 4
B42: Memimpin pertemuan refleksi secara berkala yang melibatkan semua guru untuk perbaikan kualitas proses belajar. | G42: Memimpin pertemuan refleksi secara berkala yang melibatkan semua guru berdasarkan analisis data yang menghasilkan inisiatif untuk perbaikan kualitas proses belajar yang terukur. | H42: Memimpin pertemuan refleksi secara berkala yang melibatkan semua guru berdasarkan analisis data yang menghasilkan inisiatif kolaboratif untukperbaikan kualitas proses belajar yang terukur. | I42: Mengembangkan mekanisme refleksi secara berkala yang melibatkan semua guru berdasarkan analisis data yang menghasilkan inisiatif kolaboratif untuk perbaikan kualitas proses belajar yang terukur.
B44: Kompetensi:
B45: 2.4 Melibatkan orang tua/wali murid sebagai pendamping dan sumber belajar di sekolah.
B46: KLIK SKOR | H46: INDIKATOR | J46: TINGKAT KOMPETENSI | R46: BUKTI FISIK / INDIKATOR YANG TERIDENTIFIKASI | T46: PENDALAMAN WAWANCARA/ TRACER VALIDASI BUKTI FISIK
...

Sheet Kompetensi 3
B3: 3. KEPEMIMPINAN MANAJEMEN SEKOLAH
B4: Kompetensi:
B5: 3.1 Mengembangkan dan mewujudkan visi sekolah yang berorientasi pada murid.
B6: KLIK SKOR | G6: INDIKATOR | J6: TINGKAT KOMPETENSI | R6: BUKTI FISIK / INDIKATOR YANG TERIDENTIFIKASI | T6: PENDALAMAN WAWANCARA/ TRACER VALIDASI BUKTI FISIK
B7: 0 | C7: 1 | D7: 2 | E7: 3 | F7: 4
G8: 1. Memfasilitasi keikutsertaan warga sekolah dalam penyusunan visi dan misi sekolah serta programnya. | J8: =IF(L8=0,"",IF(L8<=1.5,"Berkembang",IF(L8<=2.5,"Layak",IF(L8<=3.5,"Cakap",IF(L8<=4,"Mahir",""))))) -> Mahir | L8: =SUM(M8:M12)/N8*4 -> 3.6 | M8: =S8-1 -> 4 | N8: =COUNTA(G8:G12)*4 -> 20 | Q8: 1. | R8: Notulen dafhad kegiatan evaluasi penyusunan Visi misi sekolah. | S8: 5 | T8: Undangan, Daftar Hadir, Notulen Evaluasi Penyusunan Visi, Misi dan Tujuan Sekolah (Visi, Misi dan Tujuan Sekolah)
G9: 2. Menumbuhkan budaya belajar warga sekolah yang berorientasi pada murid untuk mewujudkan visi dan misi sekolah. | M9: =S9-1 -> 4 | Q9: 2. | R9: Terlihat adanya budaya sekolah dalam keseharian yang telah terbentuk. | S9: 5 | T9: Program Budaya sekolah untuk mencapai Visi Misi dan Tujuan dalam RKT, RKAS (Literasi, Numerasi, karakter siswa, kegiatan inovatif lain), Pelaksanaan (dokumentasi, daftar hadir, Jurnal, Capaian Rapor Pendidikan)
G10: 3. Mengomunikasikan visi dan misi sekolah dengan menggunakan basis bukti dan data melalui berbagai media. | M10: =S10-1 -> 4 | Q10: 3. | R10: Terpasangnya poster visi-misi sekolah di beberapa tempat di lingkungan sekolah. | S10: 5 | T10: Sosialisasi Visi Misi dan Tujuan Warga sekolah dan Orang tua/ komite (Undangan, Daftar Hadir, Notulen), Poster/ Banner di R. Kelas dan tempat tempat strategis, Media Sosial Official Sekolah.
G11: 4. Memberi kesempatan pada warga sekolah untuk mencoba pendekatan baru secara interaktif dan reflektif sesuai perannya dalam mewujudkan visi dan misi sekolah. | M11: =S11-1 -> 3 | Q11: 4. | R11: Memfasilitasi pondok baca dan atau Majalah Dinding di sekitar dalam lingkungan sekolah. | S11: 4 | T11: Pemberdayaan Perpustakaan, E-Library, Ruang Pojok Baca, Mading, Komunitas Belajar (PMM), Jateng Pintar, dll
G12: 5. Mengevaluasi implementasi program secara berkala untuk mewujudkan visi dan misi sekolah. | M12: =S12-1 -> 3 | Q12: 5. | R12: Notulen dafhad kegiatan evaluasi penyusunan Visi misi sekolah, supervisi/pengawasan manajerial. | S12: 4 | T12: Evaluasi Program Sekolah dalam pencapaian Visi, Misi dan Tujuan sekolah (Undangan, daftar Hadir, Notulen), Rekomendasi dan Tindaklanjut.
B13: =J6&"" -> TINGKAT KOMPETENSI
B14: Berkembang | G14: Layak | H14: Cakap | I14: Mahir | J14: SKOR
B15: =IF(J8="Berkembang","v","") | G15: =IF(J8="Layak","v","") | H15: =IF(J8="Cakap","v","") | I15: =IF(J8="Mahir","v","") -> v | J15: =IF(J8="Berkembang",1,IF(J8="Layak",2,IF(J8="Cakap",3,IF(J8="Mahir",4,"")))) -> 4 | L15: C.1 | M15: =IF(COUNTA(B15)=1,1,0) -> 1 | N15: =IF(COUNTA(G15)=1,2,0) -> 2 | O15: =IF(COUNTA(H15)=1,3,0) -> 3 | P15: =IF(COUNTA(I15)=1,4,0) -> 4
B16: Memfasilitasi keikutsertaan warga sekolah dalam menyusun visi dan misi sekolah serta programnya. | G16: Memfasilitasi keikutsertaan warga sekolah dalam menyusun visi dan misi sekolah yang menumbuhkan budaya belajar yang berorientasi pada murid serta mengomunikasi-kannya berbasis bukti dan data melalui berbagai media. | H16: Memfasilitasi keikutsertaan warga sekolah dalam menyusun, mengomunikasikan, dan mewujudkan visi dan misi sekolah dengan pendekatan baru secara iteratif dan reflektif sesuai dengan perannya, serta mengevaluasi implementasi program secara berkala untuk mewujudkan visi dan misi sekolah. | I16: Membangun mekanisme dalam memfasilitasi keikutsertaan warga sekolah dalam menyusun, mengomunikasikan, dan mewujudkan visi dan misi sekolah dengan pendekatan baru secara interaktif dan reflektif sesuai dengan perannya, serta mengevaluasi implementasi program secara berkala untuk mewujudkan visi dan misi sekolah.
B17: Kompetensi:
B18: 3.2 Memimpin dan mengelola program sekolah yang berdampak pada murid.
B19: KLIK SKOR | G19: INDIKATOR | J19: TINGKAT KOMPETENSI | R19: BUKTI FISIK / INDIKATOR YANG TERIDENTIFIKASI | T19: PENDALAMAN WAWANCARA/ TRACER VALIDASI BUKTI FISIK
B20: 0 | C20: 1 | D20: 2 | E20: 3 | F20: 4
G21: 1. Menyusun program prioritas dalam merancang program yang sesuai dengan visi dan misi sekolah, realistis, dan berorientasi pada murid. | J21: =IF(L21=0,"",IF(L21<=1.5,"Berkembang",IF(L21<=2.5,"Layak",IF(L21<=3.5,"Cakap",IF(L21<=4,"Mahir",""))))) -> Mahir | L21: =SUM(M21:M27)/N21*4 -> 3.5714286 | M21: =S21-1 -> 4 | N21: =COUNTA(G21:G27)*4 -> 28 | Q21: 1. | R21: Analisis kebutuhan program kerja priortas sekolah dalam bentuk laporan PBD Rapor Pendidikan. | S21: 5 | T21: Rapor Pendidikan, Hasil Analisis Rapor pendidikan, Penetapan Program Prioritas (Undangan, Daftar Hadir, Notulen, Program Kerja Prioritas)
G22: 2. Mendapatkan sumber daya yang sesuai dan dapat dipertanggungjawabkan untuk melaksanakan program sekolah. | M22: =S22-1 -> 4 | Q22: 2. | R22: Pembagian tugas guru dan karyawan, penempatan staff pimpinan sekolah yang sesuai dengan kompetensinya, pengawasan SDM. | S22: 5 | T22: Analisis R10, Recruitmen, SK Pembagian Tugas, Struktur Organisasi dan Urain Tugas, Supervisi Tendik.
G23: 3. Memberdayakan sumber daya sekolah yang tersedia secara efektif dan efisien untuk meningkatkan kualitas belajar. | M23: =S23-1 -> 4 | Q23: 3. | R23: Memfasilitasi kebutuhan dan sumber daya sekolah sesuai kemampuan dan kebutuhan prioritas, pemenuhan 8 SNP (IHT, Workshop, Diklat, FGD, dll) | S23: 5 | T23: Program IHT, Workshop, Dilat, FGD, dll dalam RKT/ RKAS, Pelaksanaan (Laporan Pelaksanaan, Dokumentasi Kegiatan), Evaluasi dan Tindaklanjut; Pengeloaan Pembiayaan (BOS, BOSDA, PSM), Buku Kas Umum, Buku Bank, Buku Pembantu, Buku Pajak, Buku Pedoman Anggaran.
G24: 4. Menunjukkan praktik baik pelaksanaan program sekolah yang berdampak pada murid. | M24: =S24-1 -> 4 | Q24: 4. | R24: Adanya prestasi siswa baik akademik dan atau non akademik. | S24: 5 | T24: Piagam/ Sertifikat Penghargaan siswa (Akademik dan Non Akademik), Student Weelbeing
G25: 5. Mengarahkan warga sekolah untuk menjalankan program dengan menjelaskan keterkaitan program dengan visi dan misi sekolah. | M25: =S25-1 -> 4 | Q25: 5. | R25: Analisis kebutuhan program kerja priortas sekolah dalam bentuk laporan PBD Rapor Pendidikan. | S25: 5 | T25: Rapor Pendidikan, Program Prioritas berdasarkan analisis PBD, RKT dan ARKAS berbasis Rapor Pendidikan.
G26: 6. Memantau dan memberi umpan balik untuk memotivasi warga sekolah dalam menjalankan program yang berdampak pada murid. | M26: =S26-1 -> 3 | Q26: 6. | R26: Umpan balik atas capaian program dalam bentuk EDS atau capaian keterlaksanaan progam kerja sekolah. | S26: 4 | T26: Catatan Umpan balik EDS Berdasarkan Rapor Pendidikan, Hasil EDS
G27: 7. Memandu pertemuan secara berkala untuk merefleksikan dan memperbaiki pelaksanaan program sekolah agar lebih berdampak pada murid. | M27: =S27-1 -> 2 | Q27: 7. | R27: Notulen dafhad kegiatan Evaluasi Ketercapaian Program Kerja Sekolah. | S27: 3 | T27: Refleksi Program Kerja Sekolah (Undangan, Daftar Hadir, Notulen), Catatan Rekomendasi
B28: =J19&"" -> TINGKAT KOMPETENSI
B29: Berkembang | G29: Layak | H29: Cakap | I29: Mahir | J29: SKOR
B30: =IF(J21="Berkembang","v","") | G30: =IF(J21="Layak","v","") | H30: =IF(J21="Cakap","v","") | I30: =IF(J21="Mahir","v","") -> v | J30: =IF(J21="Berkembang",1,IF(J21="Layak",2,IF(J21="Cakap",3,IF(J21="Mahir",4,"")))) -> 4 | L30: C.2 | M30: =IF(COUNTA(B30)=1,1,0) -> 1 | N30: =IF(COUNTA(G30)=1,2,0) -> 2 | O30: =IF(COUNTA(H30)=1,3,0) -> 3 | P30: =IF(COUNTA(I30)=1,4,0) -> 4
B31: Menyusun program sekolah dan memantau keterlaksanaannya agar berjalan sesuai dengan rencana program dan visi dan misi sekolah. | G31: Mengorganisasi warga sekolah dalam menyusun program sekolah dan memberdayakan sumber daya yang tersedia untuk melaksanakan program sekolah secara efektif dan efisien. | H31: Mengorganisasi warga sekolah dalam melaksanakan program sekolah dengan menunjukkan praktik baik, memantau, memberi umpan balik, dan memandu pertemuan secara berkala untuk memperbaiki pelaksanaan program sekolah agar lebih berdampak pada murid. | I31: Mengembangkan mekanisme untuk mengorganisasi warga sekolah dalam melaksanakan program sekolah dengan menunjukkan praktik baik, memantau, memberi umpan balik, dan memandu pertemuan secara berkala untuk memperbaiki pelaksanaan program sekolah agar lebih berdampak pada murid.

Sheet Kompetensi 4
B3: 4. KEPEMIMPINAN PENGEMBANGAN SEKOLAH
B4: Kompetensi:
B5: 4.1 Memimpin program pengembangan sekolah untuk mengoptimalkan proses belajar murid dan mendukung kebutuhan masyarakat sekitar sekolah yang relevan.
B6: KLIK SKOR | G6: INDIKATOR | J6: TINGKAT KOMPETENSI | R6: BUKTI FISIK / INDIKATOR YANG TERIDENTIFIKASI | T6: PENDALAMAN WAWANCARA/ TRACER VALIDASI BUKTI FISIK
B7: 0 | C7: 1 | D7: 2 | E7: 3 | F7: 4
G8: 1. Melakukan evaluasi diri sekolah yang melibatkan warga sekolah dengan berbasis data dan bukti. | J8: =IF(L8<1.5,"Berkembang",IF(L8<2.5,"Layak",IF(L8<3.5,"Cakap",IF(L8<=4,"Mahir","")))) -> Mahir | L8: =SUM(M8:M13)/N8*4 -> 3.6666667 | M8: =S8-1 -> 3 | N8: =COUNTA(G8:G13)*4 -> 24 | Q8: 1. | R8: Adanya kegiatan PBD Rapor Pendidikan dan sinkronisasi kurikulum (Dokumen, Notulen, dafhad). | S8: 4 | T8: Hasil EDS (Undangan, Daftar Hadir,Notulen) , Rapor Pendidikan, Sinkronisasi Kurikulum (Undangan, Daftar Hadir, Notulen, Hasil Sinkronisasi), Capaian Mutu Lulusan (UKK, Tracker Study)
G9: 2. Menentukan prioritas, merancang, dan melaksanakan program pengembangan sekolah dengan mengacu pada kebutuhan murid, ketersediaan sumber daya, serta visi dan misi sekolah. | M9: =S9-1 -> 4 | Q9: 2. | R9: Adanya kegiatan PBD Rapor Pendidikan dan sinkronisasi kurikulum (Dokumen, Notulen, dafhad). | S9: 5 | T9: RKT/ RKAS (Undangan, Daftar Hadir, Notulen), Inovasi Pembelajaran berpusat pada siswa (PJBL, TEFA, Berbasis IT, Kewirausahaan, dll), Perencanaan Pembelajaran berdeferensiasi, Pelaksanaan Pembelajaran, Evaluasi dan Tindaklanjut.
G10: 3. Menginisiasi program pengembangan sekolah dalam lingkup terbatas untuk mendapatkan bukti keberhasilan sebelum diterapkan pada lingkup yang lebih luas. | M10: =S10-1 -> 4 | Q10: 3. | R10: Adanya kegiatan PBD Rapor Pendidikan dan sinkronisasi kurikulum (Dokumen, Notulen, dafhad). | S10: 5 | T10: Program Kewirausahaan, UP, TEFA (ada dalam RKT/RKAS);
G11: 4. Mengimplementasikan pendekatan inovatif untuk meningkatkan efektivitas dan efisiensi program pengembangan sekolah. | M11: =S11-1 -> 3 | Q11: 4. | R11: Adanya kegiatan PBD Rapor Pendidikan dan sinkronisasi kurikulum (Dokumen, Notulen, dafhad). | S11: 4 | T11: Laporan Pelaksanaan Kewirausahaan, UP, TEFA; Evaluasi dan Tindaklanjut Kewirausahaan, UP, dan TEFA.
G12: 5. Mengorganisasi proses pengembangan sekolah untuk memastikan peningkatan kualitas proses belajar yang berdampak pada murid. | M12: =S12-1 -> 4 | Q12: 5. | R12: Adanya kegiatan PBD Rapor Pendidikan dan sinkronisasi kurikulum (Dokumen, Notulen, dafhad). | S12: 5 | T12: Penjadwalan Kegiatan Intra, Kokurikuler, Eskul, Pemantauan, Supervisi
G13: 6. Mewujudkan peran sekolah untuk mendukung kebutuhan masyarakat sekitar sekolah yang relevan. | M13: =S13-1 -> 4 | Q13: 6. | R13: Adanya kegiatan PBD Rapor Pendidikan dan sinkronisasi kurikulum (Dokumen, Notulen, dafhad). | S13: 5 | T13: Program Kemitraan dengan Masyarakat sekitar, Kerjasama Orang Tua/ Komite dan Industri, UP dan TeFA, Bakti Sosial.
B14: =J6&"" -> TINGKAT KOMPETENSI
B15: Berkembang | G15: Layak | H15: Cakap | I15: Mahir | J15: SKOR
B16: =IF(J8="Berkembang","v","") | G16: =IF(J8="Layak","v","") | H16: =IF(J8="Cakap","v","") | I16: =IF(J8="Mahir","v","") -> v | J16: =IF(J8="Berkembang",1,IF(J8="Layak",2,IF(J8="Cakap",3,IF(J8="Mahir",4,"")))) -> 4 | L16: C.1 | M16: =IF(COUNTA(B16)=1,1,0) -> 1 | N16: =IF(COUNTA(G16)=1,2,0) -> 2 | O16: =IF(COUNTA(H16)=1,3,0) -> 3 | P16: =IF(COUNTA(I16)=1,4,0) -> 4
B17: Merencanakan dan mengorganisasi program pengembangan sekolah secara efektif dan efisiensi. | G17: Merencanakan dan mengorganisasi program pengembangan sekolah secara efektif dan efisien untuk meningkatkan kualitas proses belajar yang berdampak pada murid. | H17: Melibatkan warga sekolah dalam proses pengembangan sekolah yang berpendekatan inovatif, yang efektif dan efisien untuk meningkatkan kualitas proses belajar yang berdampak pada murid serta mendukung kebutuhan masyarakat sekitar sekolah yang relevan. | I17: Membangun mekanisme untuk memfasilitasi proses pengembangan sekolah yang berpendekatan inovatif, yang efektif dan efisien untuk meningkatkan kualitas proses belajar yang berdampak pada murid serta mendukung kebutuhan masyarakat sekitar sekolah yang relevan.
B19: Kompetensi:
B20: 4.2 Melibatkan orang tua/wali murid dan masyarakat dalam pengembangan sekolah.
B21: KLIK SKOR | G21: INDIKATOR | J21: TINGKAT KOMPETENSI | R21: BUKTI FISIK / INDIKATOR YANG TERIDENTIFIKASI | T21: PENDALAMAN WAWANCARA/ TRACER VALIDASI BUKTI FISIK
B22: 0 | C22: 1 | D22: 2 | E22: 3 | F22: 4
G23: 1. Mengomunikasikan pentingnya pengembangan sekolah untuk peningkatan kualitas belajar murid kepada orang tua/wali murid dan masyarakat. | J23: =IF(L23<1.5,"Berkembang",IF(L23<2.5,"Layak",IF(L23<3.5,"Cakap",IF(L23<=4,"Mahir","")))) -> Mahir | L23: =SUM(M23:M25)/N23*4 -> 4 | M23: =S23-1 -> 4 | N23: =COUNTA(G23:G25)*4 -> 12 | Q23: 1. | R23: Adanya koordinasi dan atau sosialisasi program kerja bersama dengan melibatkan Komite Sekolah (Notulen, dafhad) | S23: 5 | T23: Rapat Sosialisasi Program Kerja sekolah Orang tua/ Komite (Undangan, Daftar Hadir, Notulen),
G24: 2. Menyediakan kesempatan bagi orang tua/wali murid dan masyarakat untuk mengambil peran dalam pengembangan sekolah. | M24: =S24-1 -> 4 | Q24: 2. | R24: Memfasilitasi dan memberi kesempatan kepada komite sekolah / wali murid dalam pengembangan program yang ada di sekolah. | S24: 5 | T24: Orang tua Menjadi Narasumber, Pelibatan Kegiatan Kewirausahan, Pelibatan dan dukungan dalam Projek P5, Pemantauan Pelaksanaan Program.
G25: 3. Mengomunikasikan dampak hasil pengembangan sekolah pada peningkatan kualitas belajar murid kepada orang tua/wali murid dan masyarakat. | M25: =S25-1 -> 4 | Q25: 3. | R25: Adanya sosialiasi hasil capaian pengembangan program kerja sekolah kepada komite sekolah / wali murid secara periodik dan atau insidental | S25: 5 | T25: Laporan Capaian Hasil Belajar siswa, Laporan Pelaksanaan Program sekolah, Laporan Pengganggaran PSM, Laporan Capian Rapor Pendidikan.
I26: =J21&"" -> TINGKAT KOMPETENSI
B27: Berkembang | G27: Layak | H27: Cakap | I27: Mahir | J27: SKOR
B28: =IF(J23="Berkembang","v","") | G28: =IF(J23="Layak","v","") | H28: =IF(J23="Cakap","v","") | I28: =IF(J23="Mahir","v","") -> v | J28: =IF(J23="Berkembang",1,IF(J23="Layak",2,IF(J23="Cakap",3,IF(J23="Mahir",4,"")))) -> 4 | L28: C.2 | M28: =IF(COUNTA(B28)=1,1,0) -> 1 | N28: =IF(COUNTA(G28)=1,2,0) -> 2 | O28: =IF(COUNTA(H28)=1,3,0) -> 3 | P28: =IF(COUNTA(I28)=1,4,0) -> 4
B29: Mengomunikasikan dan meminta masukan dari orang tua/wali murid dan masyarakat terkait dampak hasil pengembangan sekolah pada peningkatan kualitas belajar murid. | G29: Mengomunikasikan dengan menggunakan berbagai strategi komunikasi yang mendorong keterlibatan orang tua/wali murid dan masyarakat dalam pengembangan sekolah yang berdampak pada peningkatan kualitas belajar murid. | H29: Mengomunikasikan hasil pengembangan sekolah serta menyediakan kesempatan bagi orang tua/wali murid dan masyarakat untuk mengambil peran dalam program pengembangan sekolah yang berdampak pada peningkatan kualitas belajar murid. | I29: Membangun mekanisme yang memfasilitasi komunikasi hasil pengembangan sekolah dan penyediaan kesempatan bagi orang tua/wali murid dan masyarakat untuk mengambil peran dalam program pengembangan sekolah yang berdampak pada peningkatan kualitas belajar murid.

Sheet Rekapitulasi
B2: REKAPITULASI HASIL PENILAIAN
B3: PENGEMBANGAN KOMPETENSI PROFESIONAL KEPALA SEKOLAH
B5: a. | C5: Nama KS yang dinilai | D5: : | E5: =Identitas!E4&"" -> Drs. ............
C6: N I P | D6: : | E6: =Identitas!E5&"" -> 19..........................
C7: Tempat / Tgl Lahir | D7: : | E7: =Identitas!E7 -> Cilacap, 02 Maret 1965
C8: Pangkat / Gol. | D8: : | E8: =Identitas!E8&" / "&Identitas!F8&" / "&Identitas!G8&"" -> Pembina Tk I / IV b / 29 Januari 2014
C9: Jabatan | D9: : | E9: =Identitas!E9 -> Kepala Sekolah
C10: Masa Kerja | D10: : | E10: =Identitas!E10 -> 33 th, 10 bln
C11: Jenis Kelamin | D11: : | E11: =Identitas!E11 -> Laki-laki
C12: Pend. Terakhir | D12: : | E12: =Identitas!E12 -> S 2
C13: Spesialisasi | D13: : | E13: =Identitas!E13 -> Guru Mapel Teknik Bangunan
B15: b. | C15: Nama Instansi/Sklh. | D15: : | E15: =Identitas!E17&"" -> SMK Negeri 1 ..............
C16: Telepon / Fax | D16: : | E16: =Identitas!E18&"" -> -
C17: Kelurahan | D17: : | E17: =Identitas!E19&"" -> B................
C18: Kecamatan | D18: : | E18: =Identitas!E20&"" -> .....................
C19: ='[1]00-DATA'!C31&"" -> Kota | D19: : | E19: =Identitas!E21&"" -> Banyumas
C20: Provinsi | D20: : | E20: =Identitas!E22&"" -> Jawa Tengah
C22: Periode Penilaian | F22: Jenis Penilaian | H22: Tanggal
C23: =Identitas!C41&"" -> 01 Januari 2023 | D23: s.d. | E23: =Identitas!E41&"" -> 31 Desember 2023 | F23: =IF(Identitas!G41=1,"Formatif",IF(Identitas!G41=2,"Sumatif","Kemajuan")) -> Sumatif | H23: =Identitas!H41&"" -> 10 Desember 2023
B25: NO | C25: KOMPETENSI KEPEMIMPINAN | G25: TINGKAT KOMPETENSI | H25: SKOR
B26: A. | C26: ='[1]KOMP-1'!B3&"" -> 1. PENGEMBANGAN DIRI DAN ORANG LAIN
B27: 1 | C27: ='[1]KOMP-1'!B5&"" -> 1.1 Menunjukkan praktik pengembangan diri berdasarkan kesadaran dan kemauan pribadi. | G27: =IF(H27<1.5,"Berkembang",IF(H27<2.5,"Layak",IF(H27<3.5,"Cakap",IF(H27<=4,"Mahir","")))) -> Cakap | H27: ='Kompetensi 1'!L8 -> 2.5
B28: 2 | C28: ='[1]KOMP-1'!B17&"" -> 1.2 Mengembangkan kompetensi warga sekolah untuk meningkatkan kualitas pembelajaran. | G28: =IF(H28<1.5,"Berkembang",IF(H28<2.5,"Layak",IF(H28<3.5,"Cakap",IF(H28<=4,"Mahir","")))) -> Mahir | H28: ='Kompetensi 1'!L21 -> 3.8
B29: 3 | C29: ='[1]KOMP-1'!B30&"" -> 1.3 Berpartisipasi aktif dalam jejaring dan organisasi yang relevan dengan kepemimpinan sekolah untuk mengembangkan karier. | G29: =IF(H29<1.5,"Berkembang",IF(H29<2.5,"Layak",IF(H29<3.5,"Cakap",IF(H29<=4,"Mahir","")))) -> Mahir | H29: ='Kompetensi 1'!L35 -> 3.6
B30: 4 | C30: ='[1]KOMP-1'!B43&"" -> 1.4 Menunjukkan kematangan spiritual, moral, dan emosi untuk berperilaku sesuai dengan kode etik. | G30: =IF(H30<1.5,"Berkembang",IF(H30<2.5,"Layak",IF(H30<3.5,"Cakap",IF(H30<=4,"Mahir","")))) -> Mahir | H30: ='Kompetensi 1'!L49 -> 3.6
B31: B. | C31: ='[1]KOMP (2)'!B3&"" -> 2. KEPEMIMPINAN PEMBELAJARAN
B32: 5 | C32: ='[1]KOMP (2)'!B5&"" -> 2.1 Memimpin upaya pengembangan lingkungan belajar yang berpusat pada murid. | G32: =IF(H32<1.5,"Berkembang",IF(H32<2.5,"Layak",IF(H32<3.5,"Cakap",IF(H32<=4,"Mahir","")))) -> Mahir | H32: ='Kompetensi 2'!L8 -> 3.5
B33: 6 | C33: ='[1]KOMP (2)'!B17&"" -> 2.2 Memimpin perencanaan dan pelaksanaan proses belajar yang berpusat pada murid. | G33: =IF(H33<1.5,"Berkembang",IF(H33<2.5,"Layak",IF(H33<3.5,"Cakap",IF(H33<=4,"Mahir","")))) -> Mahir | H33: ='Kompetensi 2'!L21 -> 3.5
B34: 7 | C34: ='[1]KOMP (2)'!B30&"" -> 2.3 Memimpin refleksi dan perbaikan kualitas proses belajar yang berpusat pada murid. | G34: =IF(H34<1.5,"Berkembang",IF(H34<2.5,"Layak",IF(H34<3.5,"Cakap",IF(H34<=4,"Mahir","")))) -> Mahir | H34: ='Kompetensi 2'!L35 -> 3.5
B35: 8 | C35: ='[1]KOMP (2)'!B42&"" -> 2.4 Melibatkan orang tua/wali murid sebagai pendamping dan sumber belajar di sekolah. | G35: =IF(H35<1.5,"Berkembang",IF(H35<2.5,"Layak",IF(H35<3.5,"Cakap",IF(H35<=4,"Mahir","")))) -> Mahir | H35: ='Kompetensi 2'!L48 -> 3.5
B36: C. | C36: ='[1]KOMP (3)'!B3&"" -> 3. KEPEMIMPINAN MANAJEMEN SEKOLAH
B37: 9 | C37: ='[1]KOMP (3)'!B5&"" -> 3.1 Mengembangkan dan mewujudkan visi sekolah yang berorientasi pada murid. | G37: =IF(H37<1.5,"Berkembang",IF(H37<2.5,"Layak",IF(H37<3.5,"Cakap",IF(H37<=4,"Mahir","")))) -> Mahir | H37: ='Kompetensi 3'!L8 -> 3.6
B38: 10 | C38: ='[1]KOMP (3)'!B17&"" -> 3.2 Memimpin dan mengelola program sekolah yang berdampak pada murid. | G38: =IF(H38<1.5,"Berkembang",IF(H38<2.5,"Layak",IF(H38<3.5,"Cakap",IF(H38<=4,"Mahir","")))) -> Mahir | H38: ='Kompetensi 3'!L21 -> 3.5714286
B39: D. | C39: ='[1]KOMP (4)'!B3&"" -> 4. KEPEMIMPINAN PENGEMBANGAN SEKOLAH
B40: 11 | C40: ='[1]KOMP (4)'!B5&"" -> 4.1 Memimpin program pengembangan sekolah untuk mengoptimalkan proses belajar murid dan mendukung kebutuhan masyarakat sekitar sekolah yang relevan. | G40: =IF(H40<1.5,"Berkembang",IF(H40<2.5,"Layak",IF(H40<3.5,"Cakap",IF(H40<=4,"Mahir","")))) -> Mahir | H40: ='Kompetensi 4'!L8 -> 3.6666667
B41: 12 | C41: ='[1]KOMP (4)'!B19&"" -> 4.2 Melibatkan orang tua/wali murid dan masyarakat dalam pengembangan sekolah. | G41: =IF(H41<1.5,"Berkembang",IF(H41<2.5,"Layak",IF(H41<3.5,"Cakap",IF(H41<=4,"Mahir","")))) -> Mahir | H41: ='Kompetensi 4'!L23 -> 4
B42: Jumlah (Hasil Penilaian Kompetensi Profesional Kepala Sekolah) | H42: =SUM(H27:H41) -> 42.338095
B43: Hasil Penilaian Profesional KS (Skala 100) : (Skor/48) x 100 | F43: =IF(H43=0,"",IF(H43<56,"Kurang",IF(H43<76,"Cukup",IF(H43<91,"Baik",IF(H43<=100,"Amat Baik",""))))) -> Baik | G43: =IF(H43<56,"Berkembang",IF(H43<76,"Layak",IF(H43<90.5,"Cakap",IF(H43<=100,"Mahir","")))) -> Cakap | H43: =H42/(48)*100 -> 88.204365
B44: *) Nilai diisi berdasarkan laporan dan evaluasi PK Guru/KS. Nilai minimum per kompetensi = 0 dan nilai maksimum = 4
G45: =Identitas!E21&", " -> Banyumas, | H45: =Identitas!H41&"" -> 10 Desember 2023
...

Sheet Penilaian Siswa
C2: PENILAIAN KEPALA SEKOLAH / PENDIDIK OLEH PESERTA DIDIK
C4: Nama | D4: : | E4: ='Penilaian Guru'!E4&"" -> Drs. ............ | X4: Observer | AA4: : | AB4: ='Penilaian Guru'!AB4&"" -> Hariyanto, S.TP., MP.
C5: NIP | D5: : | E5: ='Penilaian Guru'!E5&"" -> 19.......................... | X5: NIP | AA5: : | AB5: ='Penilaian Guru'!AB5&"" -> 19711012 199802 1 002
C6: Tugas Pokok | D6: : | E6: =[1]SEJAWAT!E6&"" -> Kepala Sekolah | X6: Hasil Nilai | AA6: : | AB6: =AL27 -> 0
B7: No | C7: Komponen | D7: Pernyataan | F7: Penilai | H7: 1 | I7: Penilai | K7: 2 | L7: Penilai | N7: 3 | O7: Penilai | Q7: 4 | R7: Penilai | T7: 5 | U7: Penilai | W7: 6 | X7: Penilai | Z7: 7 | AA7: Penilai | AC7: 8 | AD7: Penilai | AF7: 9 | AG7: Penilai | AI7: 10
F8: 0 | G8: 1 | H8: 2 | I8: 0 | J8: 1 | K8: 2 | L8: 0 | M8: 1 | N8: 2 | O8: 0 | P8: 1 | Q8: 2 | R8: 0 | S8: 1 | T8: 2 | U8: 0 | V8: 1 | W8: 2 | X8: 0 | Y8: 1 | Z8: 2 | AA8: 0 | AB8: 1 | AC8: 2 | AD8: 0 | AE8: 1 | AF8: 2 | AG8: 0 | AH8: 1 | AI8: 2
B9: 1 | C9: Kepemimpinan kepala Sekolah | D9: 1 | E9: Kepala sekolah dapat memimpin sekolah dengan tertib dan disiplin
D10: 2 | E10: Kepala sekolah dapat mewujudkan lingkungan sekolah yang nyaman untuk belajar
D11: 3 | E11: Kepala sekolah dapat bekerjasama dengan guru-guru dengan kompak
D12: 4 | E12: Kepala sekolah dapat memotivasi siswa dan warga sekolah untuk berprestasi
D13: 5 | E13: Kepala sekolah memfasilitasi kegiatan dan sarana pembelajaran dengan baik
B14: 2. | C14: Perilaku sehari-hari kepala sekolah | D14: 1 | E14: Kepala sekolah dapat memberi contoh perilaku yang sesuai dengan aturan
D15: 2 | E15: Kepala sekolah menjalankan ibadah sesuai dengan ajaran agamanya
D16: 3 | E16: Kepala sekolah berpakaian rapih sesuai dengan aturan sekolah
D17: 4 | E17: Kepala sekolah menghargai perbedaan asal, suku, agama dan ras.
D18: 5 | E18: Kepala sekolah memberikan tugas apabila ada guru berhalangan hadir
B19: 3. | C19: Hubungan sosial dengan peserta didik | D19: 1 | E19: Kepala sekolah dapat mengenal saya dan teman-teman selama di sekolah
D20: 2 | E20: Kepala sekolah memberi perhatian kepada saya dan teman-teman
D21: 3 | E21: Kepala sekolah memelihara komunikasi yang baik dengan semua peserta didik
D22: 4 | E22: Kepala sekolah mudah dihubungi pada saat diperlukan untuk diskusi
D23: 5 | E23: Kepala sekolah akrab dengan saya dan teman-teman
E24: Jumlah Per Skor | F24: =SUM(F9:F23) -> 0 | G24: =SUM(G9:G23) -> 0 | H24: =SUM(H9:H23) -> 0 | I24: =SUM(I9:I23) -> 0 | J24: =SUM(J9:J23) -> 0 | K24: =SUM(K9:K23) -> 0 | L24: =SUM(L9:L23) -> 0 | M24: =SUM(M9:M23) -> 0 | ... AI24: =SUM(AI9:AI23) -> 0
B25: Jumlah Skor | G25: =SUM(F24:H24) -> 0 | J25: =SUM(I24:K24) -> 0 | M25: =SUM(L24:N24) -> 0 | P25: =SUM(O24:Q24) -> 0 | S25: =SUM(R24:T24) -> 0 | V25: =SUM(U24:W24) -> 0 | Y25: =SUM(X24:Z24) -> 0 | AB25: =SUM(AA24:AC24) -> 0 | AE25: =SUM(AD24:AF24) -> 0 | AH25: =SUM(AG24:AI24) -> 0 | AL25: Hasil
B26: Skor Maksimum = Jumlah indikator x 2 | G26: =COUNTA($D$9:$D$23)*2 -> 30 | J26: =COUNTA($D$9:$D$23)*2 -> 30 | M26: =COUNTA($D$9:$D$23)*2 -> 30 | P26: =COUNTA($D$9:$D$23)*2 -> 30 | S26: =COUNTA($D$9:$D$23)*2 -> 30 | V26: =COUNTA($D$9:$D$23)*2 -> 30 | Y26: =COUNTA($D$9:$D$23)*2 -> 30 | AB26: =COUNTA($D$9:$D$23)*2 -> 30 | AE26: =COUNTA($D$9:$D$23)*2 -> 30 | AH26: =COUNTA($D$9:$D$23)*2 -> 30 | AL26: Akhir
B27: Nilai Kinerja= (Jumlah skor/skor maksimum) x 100 | F27: =G25/G26*100 -> 0 | I27: =J25/J26*100 -> 0 | L27: =M25/M26*100 -> 0 | O27: =P25/P26*100 -> 0 | R27: =S25/S26*100 -> 0 | U27: =V25/V26*100 -> 0 | X27: =Y25/Y26*100 -> 0 | AA27: =AB25/AB26*100 -> 0 | AD27: =AE25/AE26*100 -> 0 | AG27: =AH25/AH26*100 -> 0 | AL27: =SUM(F27:AG27)/COUNTA(H7,K7,N7,Q7,T7,W7,Z7,AC7,AF7,AI7) -> 0
B28: Sebutan | G28: =IF(F27<=50,"Kurang",IF(F27<=60,"Sedang",IF(F27<=75,"Cukup",IF(F27<=90,"Baik",IF(F27<=100,"Amat Baik",""))))) -> Kurang | J28: =IF(I27<=50,"Kurang",IF(I27<=60,"Sedang",IF(I27<=75,"Cukup",IF(I27<=90,"Baik",IF(I27<=100,"Amat Baik",""))))) -> Kurang | M28: =IF(L27<=50,"Kurang",IF(L27<=60,"Sedang",IF(L27<=75,"Cukup",IF(L27<=90,"Baik",IF(L27<=100,"Amat Baik",""))))) -> Kurang | P28: =IF(O27<=50,"Kurang",IF(O27<=60,"Sedang",IF(O27<=75,"Cukup",IF(O27<=90,"Baik",IF(O27<=100,"Amat Baik",""))))) -> Kurang | S28: =IF(R27<=50,"Kurang",IF(R27<=60,"Sedang",IF(R27<=75,"Cukup",IF(R27<=90,"Baik",IF(R27<=100,"Amat Baik",""))))) -> Kurang | V28: =IF(U27<=50,"Kurang",IF(U27<=60,"Sedang",IF(U27<=75,"Cukup",IF(U27<=90,"Baik",IF(U27<=100,"Amat Baik",""))))) -> Kurang | Y28: =IF(X27<=50,"Kurang",IF(X27<=60,"Sedang",IF(X27<=75,"Cukup",IF(X27<=90,"Baik",IF(X27<=100,"Amat Baik",""))))) -> Kurang | AB28: =IF(AA27<=50,"Kurang",IF(AA27<=60,"Sedang",IF(AA27<=75,"Cukup",IF(AA27<=90,"Baik",IF(AA27<=100,"Amat Baik",""))))) -> Kurang | AE28: =IF(AD27<=50,"Kurang",IF(AD27<=60,"Sedang",IF(AD27<=75,"Cukup",IF(AD27<=90,"Baik",IF(AD27<=100,"Amat Baik",""))))) -> Kurang | AH28: =IF(AG27<=50,"Kurang",IF(AG27<=60,"Sedang",IF(AG27<=75,"Cukup",IF(AG27<=90,"Baik",IF(AG27<=100,"Amat Baik",""))))) -> Kurang | AL28: =IF(AL27<=50,"Kurang",IF(AL27<=60,"Sedang",IF(AL27<=75,"Cukup",IF(AL27<=90,"Baik",IF(AL27<=100,"Amat Baik",""))))) -> Kurang

Sheet Penilaian Guru
C2: PENILAIAN KEPALA SEKOLAH / PENDIDIK OLEH TEMAN SEJAWAT
C4: Nama | D4: : | E4: =Identitas!E4&"" -> Drs. ............ | X4: Observer | AA4: : | AB4: =Identitas!E24&"" -> Hariyanto, S.TP., MP.
C5: NIP | D5: : | E5: =Identitas!E5&"" -> 19.......................... | X5: NIP | AA5: : | AB5: =Identitas!E25&"" -> 19711012 199802 1 002
C6: Tugas Pokok | D6: : | E6: Kepala Sekolah | X6: Hasil Nilai | AA6: : | AB6: =AL28 -> 84
B7: No | C7: Komponen | D7: Pernyataan | F7: Penilai | H7: 1 | I7: Penilai | K7: 2 | L7: Penilai | N7: 3 | O7: Penilai | Q7: 4 | R7: Penilai | T7: 5 | U7: Penilai | W7: 6 | X7: Penilai | Z7: 7 | AA7: Penilai | AC7: 8 | AD7: Penilai | AF7: 9 | AG7: Penilai | AI7: 10
F8: 0 | G8: 1 | H8: 2 | I8: 0 | J8: 1 | K8: 2 | L8: 0 | M8: 1 | N8: 2 | O8: 0 | P8: 1 | Q8: 2 | R8: 0 | S8: 1 | T8: 2 | U8: 0 | V8: 1 | W8: 2 | X8: 0 | Y8: 1 | Z8: 2 | AA8: 0 | AB8: 1 | AC8: 2 | AD8: 0 | AE8: 1 | AF8: 2 | AG8: 0 | AH8: 1 | AI8: 2
B9: 1 | C9: Perilaku Kepala sekolah sehari-hari | D9: 1 | E9: Kepala sekolah bekerja sesuai jadwal yang ditetapkan | H9: 2 | K9: 2 | N9: 2 | Q9: 2 | T9: 2 | W9: 2 | Z9: 2 | AC9: 2 | AF9: 2 | AI9: 2
D10: 2 | E10: Kepala sekolah berpakaian rapi dan/atau sopan | H10: 2 | J10: 1 | N10: 2 | Q10: 2 | S10: 1 | W10: 2 | Z10: 2 | AC10: 2 | AE10: 1 | AI10: 2
D11: 3 | E11: Kepala sekolah berprilaku baik terhadap saya dan Kepala sekolah lain | H11: 2 | K11: 2 | M11: 1 | Q11: 2 | R11: 0 | W11: 2 | Z11: 2 | AC11: 2 | AD11: v | AF11: 2 | AI11: 2
D12: 4 | E12: Kepala sekolah bersedia menerima kritik dan saran dari saya atau guru lainnya | H12: 2 | K12: 2 | N12: 2 | Q12: 2 | S12: 1 | V12: 1 | Z12: 2 | AC12: 2 | AE12: 1 | AH12: v
D13: 5 | E13: Kepala sekolah berpartisispasi aktif dalam kegiatan peningkatan prestasi sekolah | H13: 2 | K13: 2 | N13: 2 | Q13: 2 | T13: 2 | W13: 2 | Z13: 2 | AC13: 2 | AF13: 2 | AI13: 2
B14: 2 | C14: Hubungan Kepala sekolah dengan Teman Sejawat | D14: 1 | E14: Kepala sekolah bersikap ramah kepada saya atau orang lain. | H14: 2 | J14: 1 | N14: 2 | P14: 1 | S14: 1 | V14: 1 | Z14: 2 | AB14: 1 | AE14: 1 | AH14: v
D15: 2 | E15: Kepala sekolah berbahasa santun kepada saya atau orang lain. | H15: 2 | K15: 2 | M15: 1 | Q15: 2 | T15: 2 | W15: 2 | Z15: 2 | AC15: 2 | AF15: 2 | AI15: 2
D16: 3 | E16: Kepala sekolah pandai berkomunikasi secara lisan atau tertulis | H16: 2 | K16: 2 | N16: 2 | P16: 1 | T16: 2 | V16: 1 | Z16: 2 | AB16: 1 | AF16: 2 | AH16: v
D17: 4 | E17: Kepala sekolah bersedia diajak berdikusi tentang segala hal terkait kepentingan peserta didik dan sekolah | H17: 2 | J17: 1 | N17: 2 | Q17: 2 | T17: 2 | W17: 2 | Z17: 2 | AC17: 2 | AF17: 2 | AI17: 2
D18: 5 | E18: Kepala sekolah bersedia membantu menyelesaikan masalah saya dan guru lainnya | G18: 1 | K18: 2 | N18: 2 | P18: 1 | S18: 1 | W18: 2 | Z18: 2 | AB18: 1 | AE18: 1 | AI18: 2
B19: 3 | C19: Perilaku Profesional Kepala sekolah | D19: 1 | E19: Kepala sekolah memiliki pengetahuan dan keterampilan Teknologi Informasi (TI) yang memadai | H19: 2 | K19: 2 | M19: 1 | Q19: 2 | T19: 2 | V19: 1 | Z19: 2 | AC19: 2 | AF19: 2 | AH19: v
D20: 2 | E20: Kepala sekolah berada di sekolah tepat waktu | H20: 2 | K20: 2 | N20: 2 | Q20: 2 | T20: 2 | W20: 2 | Z20: 2 | AC20: 2 | AF20: 2 | AI20: 2
D21: 3 | E21: Kepala sekolah keluar dari sekolah tepat waktu | H21: 2 | K21: 2 | N21: 2 | P21: 1 | T21: 2 | W21: 2 | Z21: 2 | AB21: 1 | AF21: 2
D22: 4 | E22: Kepala sekolah memberikan tugas kepada peserta didik apa bila ada guru berhalangan hadir untuk mengajar | G22: 1 | J22: 1 | M22: 1 | P22: 1 | T22: 2 | W22: 2 | Z22: 2 | AB22: 1 | AF22: 2 | AI22: v
D23: 5 | E23: Kepala sekolah memperlakukan peserta didik dengan penuh kasih sayang | H23: 2 | K23: 2 | N23: 2 | Q23: 2 | T23: 2 | W23: 2 | Z23: 2 | AC23: 2 | AF23: 2 | AI23: v
E25: Jumlah Per Skor | F25: =SUM(F9:F23) -> 0 | G25: =SUM(G9:G23) -> 2 | H25: =SUM(H9:H23) -> 26 | I25: =SUM(I9:I23) -> 0 | J25: =SUM(J9:J23) -> 4 | K25: =SUM(K9:K23) -> 22 | L25: =SUM(L9:L23) -> 0 | M25: =SUM(M9:M23) -> 4 | ... AI25: =SUM(AI9:AI23) -> 16
B26: Jumlah Skor | G26: =(F25+G25+H25) -> 28 | J26: =(I25+J25+K25) -> 26 | M26: =(L25+M25+N25) -> 26 | P26: =(O25+P25+Q25) -> 25 | S26: =(R25+S25+T25) -> 24 | V26: =(U25+V25+W25) -> 26 | Y26: =(X25+Y25+Z25) -> 30 | AB26: =(AA25+AB25+AC25) -> 25 | AE26: =(AD25+AE25+AF25) -> 26 | AH26: =(AG25+AH25+AI25) -> 16 | AL26: Hasil
B27: Skor Maksimum = Jumlah indikator x 2 | G27: =COUNTA($D$9:$D$23)*2 -> 30 | J27: =COUNTA($D$9:$D$23)*2 -> 30 | M27: =COUNTA($D$9:$D$23)*2 -> 30 | P27: =COUNTA($D$9:$D$23)*2 -> 30 | S27: =COUNTA($D$9:$D$23)*2 -> 30 | V27: =COUNTA($D$9:$D$23)*2 -> 30 | Y27: =COUNTA($D$9:$D$23)*2 -> 30 | AB27: =COUNTA($D$9:$D$23)*2 -> 30 | AE27: =COUNTA($D$9:$D$23)*2 -> 30 | AH27: =COUNTA($D$9:$D$23)*2 -> 30 | AL27: Akhir
B28: Nilai Kinerja= (Jumlah skor/skor maksimum) x 100 | F28: =G26/G27*100 -> 93.333333 | I28: =J26/J27*100 -> 86.666667 | L28: =M26/M27*100 -> 86.666667 | O28: =P26/P27*100 -> 83.333333 | R28: =S26/S27*100 -> 80 | U28: =V26/V27*100 -> 86.666667 | X28: =Y26/Y27*100 -> 100 | AA28: =AB26/AB27*100 -> 83.333333 | AD28: =AE26/AE27*100 -> 86.666667 | AG28: =AH26/AH27*100 -> 53.333333 | AL28: =SUM(F28:AG28)/COUNTA(H7,K7,N7,Q7,T7,W7,Z7,AC7,AF7,AI7) -> 84
B29: Sebutan | G29: =IF(F28<=50,"Kurang",IF(F28<=60,"Sedang",IF(F28<=75,"Cukup",IF(F28<=90,"Baik",IF(F28<=100,"Amat Baik",""))))) -> Amat Baik | J29: =IF(I28<=50,"Kurang",IF(I28<=60,"Sedang",IF(I28<=75,"Cukup",IF(I28<=90,"Baik",IF(I28<=100,"Amat Baik",""))))) -> Baik | M29: =IF(L28<=50,"Kurang",IF(L28<=60,"Sedang",IF(L28<=75,"Cukup",IF(L28<=90,"Baik",IF(L28<=100,"Amat Baik",""))))) -> Baik | P29: =IF(O28<=50,"Kurang",IF(O28<=60,"Sedang",IF(O28<=75,"Cukup",IF(O28<=90,"Baik",IF(O28<=100,"Amat Baik",""))))) -> Baik | S29: =IF(R28<=50,"Kurang",IF(R28<=60,"Sedang",IF(R28<=75,"Cukup",IF(R28<=90,"Baik",IF(R28<=100,"Amat Baik",""))))) -> Baik | V29: =IF(U28<=50,"Kurang",IF(U28<=60,"Sedang",IF(U28<=75,"Cukup",IF(U28<=90,"Baik",IF(U28<=100,"Amat Baik",""))))) -> Baik | Y29: =IF(X28<=50,"Kurang",IF(X28<=60,"Sedang",IF(X28<=75,"Cukup",IF(X28<=90,"Baik",IF(X28<=100,"Amat Baik",""))))) -> Amat Baik | AB29: =IF(AA28<=50,"Kurang",IF(AA28<=60,"Sedang",IF(AA28<=75,"Cukup",IF(AA28<=90,"Baik",IF(AA28<=100,"Amat Baik",""))))) -> Baik | AE29: =IF(AD28<=50,"Kurang",IF(AD28<=60,"Sedang",IF(AD28<=75,"Cukup",IF(AD28<=90,"Baik",IF(AD28<=100,"Amat Baik",""))))) -> Baik | AH29: =IF(AG28<=50,"Kurang",IF(AG28<=60,"Sedang",IF(AG28<=75,"Cukup",IF(AG28<=90,"Baik",IF(AG28<=100,"Amat Baik",""))))) -> Sedang | AL29: =IF(AL28<=50,"Kurang",IF(AL28<=60,"Sedang",IF(AL28<=75,"Cukup",IF(AL28<=90,"Baik",IF(AL28<=100,"Amat Baik",""))))) -> Baik

Sheet Penilaian Ortu
C2: PENILAIAN KEPALA SEKOLAH / PENDIDIK OLEH ORANG TUA / WALI / KOMITE
C4: Nama | D4: : | E4: ='Penilaian Guru'!E4&"" -> Drs. ............ | X4: Observer | AA4: : | AB4: ='Penilaian Guru'!AB4&"" -> Hariyanto, S.TP., MP.
C5: NIP | D5: : | E5: ='Penilaian Guru'!E5&"" -> 19.......................... | X5: NIP | AA5: : | AB5: ='Penilaian Guru'!AB5&"" -> 19711012 199802 1 002
C6: Tugas Pokok | D6: : | E6: =[1]SEJAWAT!E6&"" -> Kepala Sekolah | X6: Hasil Nilai | AA6: : | AB6: =AL21 -> 0
B7: No | C7: Komponen | D7: Pernyataan | F7: Penilai | H7: 1 | I7: Penilai | K7: 2 | L7: Penilai | N7: 3 | O7: Penilai | Q7: 4 | R7: Penilai | T7: 5 | U7: Penilai | W7: 6 | X7: Penilai | Z7: 7 | AA7: Penilai | AC7: 8 | AD7: Penilai | AF7: 9 | AG7: Penilai | AI7: 10
F8: 0 | G8: 1 | H8: 2 | I8: 0 | J8: 1 | K8: 2 | L8: 0 | M8: 1 | N8: 2 | O8: 0 | P8: 1 | Q8: 2 | R8: 0 | S8: 1 | T8: 2 | U8: 0 | V8: 1 | W8: 2 | X8: 0 | Y8: 1 | Z8: 2 | AA8: 0 | AB8: 1 | AC8: 2 | AD8: 0 | AE8: 1 | AF8: 2 | AG8: 0 | AH8: 1 | AI8: 2
B9: 1 | C9: Komunikasi | D9: 1 | E9: Kepala sekolah memberitahukan perkembangan belajar putra / putri saya
D10: 2 | E10: Kepala sekolah memberi kesempatan berkomunikasi dengan saya yang berkaitan dengan perilaku atau kesulitan belajar
D11: 3 | E11: Kepala sekolah bekerjasama dengan orang tua untuk menyelesaikan kesulitan belajar putra / putri saya
B12: 2. | C12: Kepercayaan dalam memberikan pendidikan | D12: 1 | E12: Kepala sekolah berperan sebagai orang tua bagi putra / putri saya di sekolah
D13: 2 | E13: Kepala sekolah mengubahn perilaku putra / putri saya menjadi lebih baik
D14: 3 | E14: Kepala sekolah memberikan bimbingan dalam pembelajaran kepada putra / putri saya yang dapat dimanfaatkan dalam kehidupan sehari-hari
D15: 4 | E15: Kepala sekolah disenangi oleh putra / putri saya dan teman-temannya
D16: 5 | E16: Kepala sekolah menyampaikan secara umum hasil belajar putra - putri saya
E18: Jumlah Per Skor | F18: =SUM(F9:F16) -> 0 | G18: =SUM(G9:G16) -> 0 | H18: =SUM(H9:H16) -> 0 | I18: =SUM(I9:I16) -> 0 | J18: =SUM(J9:J16) -> 0 | K18: =SUM(K9:K16) -> 0 | L18: =SUM(L9:L16) -> 0 | M18: =SUM(M9:M16) -> 0 | ... AI18: =SUM(AI9:AI16) -> 0
B19: Jumlah Skor | G19: =SUM(F18:H18) -> 0 | J19: =SUM(I18:K18) -> 0 | M19: =SUM(L18:N18) -> 0 | P19: =SUM(O18:Q18) -> 0 | S19: =SUM(R18:T18) -> 0 | V19: =SUM(U18:W18) -> 0 | Y19: =SUM(X18:Z18) -> 0 | AB19: =SUM(AA18:AC18) -> 0 | AE19: =SUM(AD18:AF18) -> 0 | AH19: =SUM(AG18:AI18) -> 0 | AL19: Hasil
B20: Skor Maksimum = Jumlah indikator x 2 | G20: =COUNTA($D$9:$D$16)*2 -> 16 | J20: =COUNTA($D$9:$D$16)*2 -> 16 | M20: =COUNTA($D$9:$D$16)*2 -> 16 | P20: =COUNTA($D$9:$D$16)*2 -> 16 | S20: =COUNTA($D$9:$D$16)*2 -> 16 | V20: =COUNTA($D$9:$D$16)*2 -> 16 | Y20: =COUNTA($D$9:$D$16)*2 -> 16 | AB20: =COUNTA($D$9:$D$16)*2 -> 16 | AE20: =COUNTA($D$9:$D$16)*2 -> 16 | AH20: =COUNTA($D$9:$D$16)*2 -> 16 | AL20: Akhir
B21: Nilai Kinerja= (Jumlah skor/skor maksimum) x 100 | F21: =G19/G20*100 -> 0 | I21: =J19/J20*100 -> 0 | L21: =M19/M20*100 -> 0 | O21: =P19/P20*100 -> 0 | R21: =S19/S20*100 -> 0 | U21: =V19/V20*100 -> 0 | X21: =Y19/Y20*100 -> 0 | AA21: =AB19/AB20*100 -> 0 | AD21: =AE19/AE20*100 -> 0 | AG21: =AH19/AH20*100 -> 0 | AL21: =SUM(F21:AG21)/COUNTA(H7,K7,N7,Q7,T7,W7,Z7,AC7,AF7,AI7) -> 0
